BEGIN:VCALENDAR
VERSION:2.0
PRODID:-//Spinadello - ECPv6.15.18//NONSGML v1.0//EN
CALSCALE:GREGORIAN
METHOD:PUBLISH
X-ORIGINAL-URL:https://www.spinadello.it
X-WR-CALDESC:Eventi per Spinadello
REFRESH-INTERVAL;VALUE=DURATION:PT1H
X-Robots-Tag:noindex
X-PUBLISHED-TTL:PT1H
BEGIN:VTIMEZONE
TZID:Europe/Rome
BEGIN:DAYLIGHT
TZOFFSETFROM:+0100
TZOFFSETTO:+0200
TZNAME:CEST
DTSTART:20220327T010000
END:DAYLIGHT
BEGIN:STANDARD
TZOFFSETFROM:+0200
TZOFFSETTO:+0100
TZNAME:CET
DTSTART:20221030T010000
END:STANDARD
BEGIN:DAYLIGHT
TZOFFSETFROM:+0100
TZOFFSETTO:+0200
TZNAME:CEST
DTSTART:20230326T010000
END:DAYLIGHT
BEGIN:STANDARD
TZOFFSETFROM:+0200
TZOFFSETTO:+0100
TZNAME:CET
DTSTART:20231029T010000
END:STANDARD
BEGIN:DAYLIGHT
TZOFFSETFROM:+0100
TZOFFSETTO:+0200
TZNAME:CEST
DTSTART:20240331T010000
END:DAYLIGHT
BEGIN:STANDARD
TZOFFSETFROM:+0200
TZOFFSETTO:+0100
TZNAME:CET
DTSTART:20241027T010000
END:STANDARD
END:VTIMEZONE
BEGIN:VEVENT
DTSTART;TZID=Europe/Rome:20230513T150000
DTEND;TZID=Europe/Rome:20230513T193000
DTSTAMP:20260421T212614
CREATED:20230420T221623Z
LAST-MODIFIED:20230509T152157Z
UID:6433-1683990000-1684006200@www.spinadello.it
SUMMARY:STOMI Festival
DESCRIPTION:STOMI. Emissioni di ossigeno in atmosfera è un piccolo festival per raccontare e vivere attraverso escursioni\, suoni e incontri e tanto altro il presente e il futuro di Spinadello – Centro Visite partecipato: il progetto avviato nel 2016 che coinvolge istituzioni\, associazioni\, professionisti\, realtà imprenditoriali e cittadini\,  per rendere la centrale di sollevamento dell’ex acquedotto un punto riflessione multidisciplinare e di accesso all’area fluviale dei meandri del fiume Ronco. \nPROGRAMMA\n15:00 | APERTURA CENTRO VISITE\n15:o0 | THE DANCE OF ATTENTION\nWhat happens as soon as we press ’record’ on a device\n\n \nWorkshop di registrazione ambientale/ field recording e documentazione delle azioni sonore\, in funzione dell’arte performativa. \nDOCENTI: Attila Faravelli (www.auraltools.com) e Enrico Malatesta (enricomalatesta.com). \nARGOMENTI: suono\, storia culturale della registrazione audio\, field recording\, percezione ecologica\, camminare\, ritmicità e superficie\, musica concreta e tradizionale\, suono e arti performative. \nIl workshop\, attraverso discussioni teoriche ed esercizi pratici\, interroga in maniera profonda che cosa significhi documentare la realtà attraverso sistemi tecnologici di registrazione\, con un’attenzione particolare alle questioni riguardanti il suono. \nRiteniamo che porre la questione: “cosa succede quando premiamo REC su un dispositivo” sia particolarmente rilevante entro un contesto sociale come il nostro\, che conosce una diffusione sempre più capillare di dispositivi in grado di catturare le proprie esperienze tramite fotografie\, audio e video.\nA cosa è dovuto il successo di tecnologie in grado di fissare il flusso continuo del vivente? È possibile utilizzare le stesse tecnologie come strumenti per problematizzare la nostra percezione invece che per risolverla o sostituirla? Quali strategie adottare per inventare un uso semplice di dispositivi ultrasofisticati? È possibile usare dei mezzi tecnologici nati per mediare la nostra esperienza del mondo in sistemi per averne una percezione diretta? \nINFORMAZIONI\nORE 15:00 | AVVIO WORKSHOP \nIl workshop si rivolge a chiunque sia interessato all’ascolto e alla relazione con l’ambiente sonoro. Per partecipare è necessario iscriversi\, entro venerdì 12 maggio\, su https://bit.ly/3HeczDq\nCosto: €20 con aperitivo incluso. \nORE 18:00 | PERFORMANCE PUBBLICA \nAl termine del workshop si terrà un momento di restituzione finale del lavoro\, aperto al pubblico.\nL’accesso a Spinadello è gratuito e per partecipare non serve prenotazione. \n> IN CASO DI MALTEMPO\, IL WORKSHOP SI TERRÀ IL GIORNO 20 MAGGIO\n^^^\nBIO\nENRICO MALATESTA\nPercussionista e ricercatore indipendente attivo in ambiti sperimentali posti tra musica\, performance e indagine territoriale. La sua pratica esplora la relazione tra suono\, spazio e movimento e la vitalità dei materiali con particolare attenzione alle superfici\, alle modalità di ascolto e alla definizione di informazioni multiple attraverso un approccio ecologico e sostenibile allo strumento percussivo. \nATTILA FARAVELLI\nSound artist e musicista elettroacustico italiano.\nNella sua pratica – che comprende field recording\, performance\, workshop e design – esplora il coinvolgimento materiale con il mondo che ci circonda.\nFondatore e curatore del progetto Aural Tools\, una serie di semplici oggetti per documentare i processi materiali e concettuali della pratica di produzione sonora di specifici musicisti. \n\nINFORMAZIONI GENERALI\nTutte le attività sono gratuite\, salvo ove espressamente indicato. Maggiori informazioni scrivendo a spinadello@gmail.com \nCOME ARRIVARE\nAiutaci a mantenere inalterata la viabilità della strada\, non parcheggiando in prossimità delle case e nei punti più stretti. Presso l’acquedotto (Via Ausa Nuova 741 a Forlimpopoli) i posti auto sono limitati\, raggiungici a piedi o in bicicletta oppure scopri dove sono i parcheggi più vicini. \nSTOMI è un micro festival organizzato da Spinadello – Centro Visite Partecipato\nA cura di Spazi Indecisi\, in collaborazione con I Meandri e l’Osservatorio locale per il paesaggio del Ronco-Bidente.\nCon il sostegno del Comune di Forlimpopoli e Fondazione Cassa dei Risparmi di Forlì. Con il supporto di Unica Reti Spa.
URL:https://www.spinadello.it/evento/stomi-festival-13-maggio/
LOCATION:Centrale di sollevamento dell’acquedotto Spinadello
ATTACH;FMTTYPE=image/jpeg:https://www.spinadello.it/wp-content/uploads/2023/04/stomi_sito.jpg
END:VEVENT
BEGIN:VEVENT
DTSTART;TZID=Europe/Rome:20230512T150000
DTEND;TZID=Europe/Rome:20230512T210000
DTSTAMP:20260421T212614
CREATED:20230420T220817Z
LAST-MODIFIED:20230511T122017Z
UID:6420-1683903600-1683925200@www.spinadello.it
SUMMARY:STOMI Festival
DESCRIPTION:STOMI. Emissioni di ossigeno in atmosfera è un piccolo festival per raccontare e vivere attraverso escursioni\, suoni e incontri e tanto altro il presente e il futuro di Spinadello – Centro Visite partecipato: il progetto avviato nel 2016 che coinvolge istituzioni\, associazioni\, professionisti\, realtà imprenditoriali e cittadini\,  per rendere la centrale di sollevamento dell’ex acquedotto un punto riflessione multidisciplinare e di accesso all’area fluviale dei meandri del fiume Ronco. \nPROGRAMMA\n15:00 | APERTURA CENTRO VISITE\n15.30 | AFFLUENTI  \n> RINVIATO PER MALTEMPO A DATA DA DESTINARSI\nProgetti ed esperienze di valorizzazione di 5 corsi d’acqua e delle loro comunità\, confluiscono per un giorno a Spinadello. Tavola rotonda realizzata in collaborazione con l’Osservatorio Locale del Paesaggio Ronco – Bidente. \nIntervengono i fiumi e i progetti:\n\n> CERVO | Spazio HYDRO\nHYDRO è un centro culturale che promuove le arti visive e performative\, la ricerca sociale e la coesione civica. Coltivato come Community Hub\, è il luogo dove associazioni e singoli cittadini possono esprimersi\, confrontarsi e trovare le giuste condizioni per sviluppare attività e progetti\, contribuendo a migliorare il territorio che abitano. Attivo dal 2016\, è gestito dall’associazione Better Places APS e ospitato all’interno del complesso architettonico di Cittadellarte—Fondazione Pistoletto a Biella. Maggiori informazioni su www.spaziohydro.com \n> CORNO | FIUME IN CORSO\nFiume in Corso riporta l’attenzione alle strade d’acqua che uniscono come un filo 5 comuni: San Giorgio di Nogaro\, Gonars\, Porpetto\, Torviscosa\, Aquileia. Un filo lungo 20 km che cucirà un fitto ricamo di azioni artistiche compatibili con l’ambiente e in armonia con il paesaggio circostante.\nFiume in Corso punta alla valorizzazione del paesaggio e del patrimonio culturale del territorio con la diffusione di eventi artistici in contesti inconsueti\, con azioni che favoriscono un turismo di vicinato\, con un ritmo slow. Maggiori informazioni su www.fiumeincorso.it \n> MARECCHIA | LUNGOFIUME PROJECT\nLungofiume Project è un progetto di ricerca e sviluppo d’identità territoriale sul fiume Marecchia e la sua valle. Nasce nel 2014 da un’idea di Daniele Lisi e Ilaria Montanari\, a cui negli anni hanno partecipato ricercatori e professionisti “contributors” operanti nei campi studio di Paesaggio\, Arti visive e New Media. Lungofiume Project nasce con la volontà di mettere in contatto il fiume\, la valle e le sue storie\, dalla fonte alla foce con chi ne condivide il territorio quotidianamente per preservarlo\, e con chi non lo conosce per scoprirlo. Attraverso la creazione di un osservatorio globale sulla valle in aggiornamento continuo\, Lungofiume Project punta ad un sistema di comunicazione integrato\, che sappia risvegliare un sentimento di appartenenza ai luoghi di origine e quelli di arrivo. Maggiori informazioni su www.danielelisi.com/projects/lungofiume-project \n> RONCO – BIDENTE | SPINADELLO – Centro Visite partecipato\n\n> SENIO | AMICI DEL FIUME SENIO\nAssociazione di cittadini. Pensiamo che il  fiume Senio rappresenti un elemento fortemente identitario per le popolazioni dei comuni da esso solcato. Le ragioni principali consistono nel valore storico legato alle vicissitudini della seconda guerra mondiale; nel fatto che si mostra come un corridoio ecologico-ambientale di notevole valore ed interesse e che è meta ricercata per le attività del tempo libero di molti cittadini. Maggiori informazioni su amicidelsenio.eu\n \nSarà presente l’arch. Laura Punzo per l’OSSERVATORIO REGIONALE DEL PAESAGGIO dell’Emilia-Romagna. \nInfo e iscrizioni: info@spaziindecisi.it \nOre 19:00 | LE GIOSTRE DI ROMAN\nInaugurazione mostra e lettura-concerto\, a cura di Cristiano Pinna e Francesco Selvi. \n> RINVIATO PER MALTEMPO A VENERDÌ 19 MAGGIO\n \nRoman è un giostraio. La sua vita scorre lenta insieme alla moglie Galina\, persi fra la bruma ed i refoli di una pianura sterminata e senza tempo\, aspettando come ogni anno la fiera di San Basilio. Le giostre torneranno così a vorticare rumorose\, fra grida gioiose di bambini e scricchiolii di ruggine. Ma all’orizzonte spunta una nuova famiglia di giostrai. E tutto cambierà\, per Roman e per il piccolo paese in cui abita da sempre. \nORE 19:00 | LETTURA – CONCERTO\nCristiano Pinna e Francesco Selvi metteranno in scena questa favola con suoni ruvidi\, una lettura-concerto pregna di screziature e cinguettii\, consci che la meraviglia si può palesare dove meno la si aspetta. La location della lettura-concerto sarà raggiunta dai partecipanti con una breve passeggiata che attraversa il campo con i pozzi storici dell’acquedotto. \nAPERITIVO\nA cura dell’Azienda Agricola La Via del Colle. \n^^^ \nINFORMAZIONI GENERALI\nTutte le attività sono gratuite\, salvo ove espressamente indicato. Maggiori informazioni scrivendo a spinadello@gmail.com \nCOME ARRIVARE\nAiutaci a mantenere inalterata la viabilità della strada\, non parcheggiando in prossimità delle case e nei punti più stretti. Presso l’acquedotto (Via Ausa Nuova 741 a Forlimpopoli) i posti auto sono limitati\, raggiungici a piedi o in bicicletta oppure scopri dove sono i parcheggi più vicini. \nSTOMI è un micro festival organizzato da Spinadello – Centro Visite Partecipato\nA cura di Spazi Indecisi\, in collaborazione con I Meandri e l’Osservatorio locale per il paesaggio del Ronco-Bidente.\nCon il sostegno del Comune di Forlimpopoli e Fondazione Cassa dei Risparmi di Forlì. Con il supporto di Unica Reti Spa.
URL:https://www.spinadello.it/evento/stomi-festival-12-maggio/
LOCATION:Centrale di sollevamento dell’acquedotto Spinadello
ATTACH;FMTTYPE=image/jpeg:https://www.spinadello.it/wp-content/uploads/2023/04/stomi_sito.jpg
END:VEVENT
BEGIN:VEVENT
DTSTART;TZID=Europe/Rome:20230507T100000
DTEND;TZID=Europe/Rome:20230507T200000
DTSTAMP:20260421T212614
CREATED:20230418T112701Z
LAST-MODIFIED:20230425T132106Z
UID:6401-1683453600-1683489600@www.spinadello.it
SUMMARY:STOMI Festival
DESCRIPTION:STOMI. Emissioni di ossigeno in atmosfera è un piccolo festival per raccontare e vivere attraverso escursioni\, suoni e incontri e tanto altro il presente e il futuro di Spinadello – Centro Visite partecipato: il progetto avviato nel 2016 che coinvolge istituzioni\, associazioni\, professionisti\, realtà imprenditoriali e cittadini\,  per rendere la centrale di sollevamento dell’ex acquedotto un punto riflessione multidisciplinare e di accesso all’area fluviale dei meandri del fiume Ronco. \n\nPROGRAMMA SABATO 7 MAGGIO\nOre 10:00 | APERTURA CENTRO VISITE \nOre 10:30 | GLI ALBERI MONUMENTALI DI VILLA PAULUCCI MERLINI\nPasseggiata a Villa Paulucci Merlini\, alla scoperta degli alberi monumentali presenti nel giardino della villa.\nInfo: per partecipare è necessario iscriversi\, entro sabato 6 maggio\, su https://bit.ly/3H6IyVY\nPunto d’incontro: Spinadello (Via Ausa Nuova 741\, Forlimpopoli).\nCosto: offerta libera \nFOOD & WINE\nPorta un telo con te\, a Spinadello troverai la pasta fredda di Ca’plet – Food boutique e tanto spazio verde per stenderti e goderti il pranzo. \nOre 15:30 | ODE ALLA PRIMAVERA\nPasseggiata insieme ad Andrea Erbacci\, chef del ristorante Casa Artusi\, dedicata al riconoscimento dei fiori e delle erbe spontanee mangerecce che possiamo raccogliere lungo i sentieri fluviali e nelle nostre campagne.\nA seguire\, breve dimostrazione di come utilizzare alcune delle specie trovate nella preparazione di ricette uniche ispirate dalla natura.\nInfo: per partecipare è necessario iscriversi\, entro sabato 6 maggio\, su https://bit.ly/3Lk5Lq9\nCosto: €5 a partecipante. \nOre 18:00 | PAGINE PER L’AMBIENTE\nIncontro con gli autori e presentazione dei libri “Il respiro della foresta. Alla ricerca del segreto che può salvare la nostra specie” di Michele Lanzoni e “Un autunno caldo” di Andrea Fantini. \nIL RESPIRO DELLA FORESTA\nMichele Lanzoni\nOrme Editori\, 2022\nViaggio scientifico e spirituale nelle foreste tropicali dell’Africa e dell’Asia\, il racconto emozionante di come la frequentazione di questi straordinari ecosistemi abbia formato una coscienza ecologica “integrale” e determinato la consapevolezza della necessità di azioni urgenti e concrete per arginare l’opera di distruzione che gli esseri umani stanno infliggendo alla propria casa comune. Uno strumento utile per viaggiatori\, educatori e ragazzi che vogliono andare alla scoperta della complessità degli equilibri che regolano la stabilità ecologica e climatica del nostro pianeta. Un appassionato tentativo di dimostrare come tutto sia collegato\, e perché ciò che accade nelle foreste pluviali è determinante per il futuro della nostra specie. \nUN AUTUNNO CALDO\nAndrea Fantini\nCodice Edizioni\, 2023\nL’accumularsi di prove sulle alterazioni della biosfera e del clima spingono da tempo a riconsiderare la nostra presenza sulla Terra. La stessa definizione di Antropocene pone interrogativi non solo tecnici e scientifici\, ma anche sociali e politici. La crisi che viviamo è davvero il frutto dell’attività di una specie universalmente scriteriata e vorace? O è piuttosto il risultato di un particolare sistema economico\, sociale e politico – scaturito da secoli di saccheggi e conflitti – i cui processi di riproduzione sono incompatibili con le dinamiche di rigenerazione della biosfera? Intrecciando storia dell’ambiente e dell’energia\, ecologia ed economia politica\, Un autunno caldo ricostruisce l’enorme impatto dell’uomo sul pianeta Terra e ne analizza le conseguenze. \nAPERITIVO\nA cura dell’Azienda Agricola La Via del Colle. \n^^^ \nINFORMAZIONI GENERALI\nTutte le attività sono gratuite\, salvo ove espressamente indicato. Maggiori informazioni scrivendo a spinadello@gmail.com \nCOME ARRIVARE\nAiutaci a mantenere inalterata la viabilità della strada\, non parcheggiando in prossimità delle case e nei punti più stretti. Presso l’acquedotto (Via Ausa Nuova 741 a Forlimpopoli) i posti auto sono limitati\, raggiungici a piedi o in bicicletta oppure scopri dove sono i parcheggi più vicini. \nSTOMI è un micro festival organizzato da Spinadello – Centro Visite Partecipato\nA cura di Spazi Indecisi\, in collaborazione con I Meandri e l’Osservatorio locale per il paesaggio del Ronco-Bidente.\nCon il sostegno del Comune di Forlimpopoli e Fondazione Cassa dei Risparmi di Forlì. Con il supporto di Unica Reti Spa.
URL:https://www.spinadello.it/evento/stomi-festival-7-maggio/
LOCATION:Centrale di sollevamento dell’acquedotto Spinadello
ATTACH;FMTTYPE=image/jpeg:https://www.spinadello.it/wp-content/uploads/2023/04/stomi_sito.jpg
END:VEVENT
BEGIN:VEVENT
DTSTART;TZID=Europe/Rome:20230506T170000
DTEND;TZID=Europe/Rome:20230506T230000
DTSTAMP:20260421T212614
CREATED:20230417T201939Z
LAST-MODIFIED:20230425T225940Z
UID:6387-1683392400-1683414000@www.spinadello.it
SUMMARY:STOMI Festival
DESCRIPTION:STOMI. Emissioni di ossigeno in atmosfera è un piccolo festival per raccontare e vivere attraverso escursioni\, suoni e incontri e tanto altro il presente e il futuro di Spinadello – Centro Visite partecipato: il progetto avviato nel 2016 che coinvolge istituzioni\, associazioni\, professionisti\, realtà imprenditoriali e cittadini\,  per rendere la centrale di sollevamento dell’ex acquedotto un punto riflessione multidisciplinare e di accesso all’area fluviale dei meandri del fiume Ronco. \nPROGRAMMA \nOre 15:00 | ECOPRINTING  Corso di stampa botanica\nLa stampa botanica\, detta anche eco-printing\, è una tecnica di stampa su stoffa e carta che prevede l’uso esclusivo di elementi naturali come foglie\, fiori\, bacche\, corteccia\, scarti alimentari e segue un procedimento di lavoro a basso impatto ambientale.\nDurante la giornata impareremo insieme a Martina Ravaioli\, in arte Macro.glossa\, a riconoscere quali alberi possono essere utilizzati per questa tecnica\, osservandoli dal vivo nell’area verde che circonda l’acquedotto. Scopriremo anche tutti i passaggi step by step per realizzare manufatti unici e in sintonia con la natura!\nInfo: per partecipare è necessario iscriversi\, entro venerdì 5 maggio\, su https://bit.ly/445yExw \nOre 16:00 | TUTTI IN SELLA!\nPartenza da EXATR (Via Ugo Bassi 16\, Forlì)\, per raggiungere l’acquedotto con il mezzo a due ruote che preferiamo: la bicicletta!\nIn collaborazione con le associazioni I Meandri e Outdoor Romagna.\nInfo: per partecipare è necessario iscriversi\, entro venerdì 5 maggio\, su https://bit.ly/40soLHh\nBici consigliata: mtb o robusta city bike! \nOre 17:30 | INAUGURAZIONE NUOVO ALLESTIMENTO CENTRO VISITE\nIntervengono i promotori di Spinadello – Centro Visite partecipato e l’amministrazione del Comune di Forlimpopoli.\nBrindisi con i vini dell’Azienda agricola La Via del Colle. \nOre 18:30 | AMICI PER LA GOCCIA!\nTavola rotonda con le realtà e le persone che hanno collaborato alla programmazione e alle iniziative di Spinadello a partire dal 2016. Sono invitati i vecchi amici e tutti coloro che sono curiosi di conoscere il futuro del Centro Visite partecipato! \nOre 18:30 | ORABLU\nPasseggiata-laboratorio per famiglie\, con letture lungo i sentieri fluviali e creazione di una lanterna magica. Picnic e rientro sul far della sera\, con le lanterne accese. Attività a cura dell’illustratrice Paola Pappacena.\nInfo: per partecipare è necessario iscriversi\, entro venerdì 5 maggio\, su https://bit.ly/40qifkn\nCosto: €10 a nucleo familiare. \nOre 21:30 | CATOPTER Mattia Loris Siboni e Giulio Stermieri live\nDal greco katoptron\, “specchio”\, il duo accosta Rhodes ed elettronica e prende ispirazione dai sistemi ottici basati sulla luce riflessa.\nQuesto gioco intorno al doppio e all’illusione prospettica si concretizza in una ricerca musicale sui ruoli nell’improvvisazione elettroacustica e sulla relazione tra spazio sonoro e forma.\nCatopter nasce nel 2021 dall’incontro di Mattia Loris Siboni e Giulio Stermieri nell’ambito delle sonorizzazioni e delinea un percorso in cui convergono esperienze musicali distanti ma complementari\, dove organicamente convivono texture e frammento melodico\, astrazione e groove. \nMattia Loris Siboni – Live electronics\nGiulio Stermieri – Rhodes \nSul far della sera | ASTRO CAMP\nPer l’occasione sarà possibile pernottare sotto le stelle\, nell’area verde limitrofa all’acquedotto!\nInfo: per partecipare è necessario iscriversi\, entro venerdì 5 maggio\, su https://bit.ly/40tVo7E  (max 15 tende).\nCosto: offerta libera. \nFOOD & WINE\nPorta un telo con te\, a Spinadello troverai i crescioni di Ca’plet – Food boutique e tanto spazio verde per stenderti e goderti la cena. \n^^^ \nINFORMAZIONI GENERALI\nTutte le attività sono gratuite\, salvo ove espressamente indicato. Maggiori informazioni scrivendo a spinadello@gmail.com \nCOME ARRIVARE\nAiutaci a mantenere inalterata la viabilità della strada\, non parcheggiando in prossimità delle case e nei punti più stretti. Presso l’acquedotto (Via Ausa Nuova 741 a Forlimpopoli) i posti auto sono limitati\, raggiungici a piedi o in bicicletta oppure scopri dove sono i parcheggi più vicini. \nSTOMI è un micro festival organizzato da Spinadello – Centro Visite Partecipato\nA cura di Spazi Indecisi\, in collaborazione con I Meandri e l’Osservatorio locale per il paesaggio del Ronco-Bidente.\nCon il sostegno del Comune di Forlimpopoli e Fondazione Cassa dei Risparmi di Forlì. Con il supporto di Unica Reti Spa.
URL:https://www.spinadello.it/evento/stomi-festival-6-maggio/
LOCATION:Centrale di sollevamento dell’acquedotto Spinadello
ATTACH;FMTTYPE=image/jpeg:https://www.spinadello.it/wp-content/uploads/2023/04/stomi_sito.jpg
END:VEVENT
END:VCALENDAR