BEGIN:VCALENDAR
VERSION:2.0
PRODID:-//Spinadello - ECPv6.15.18//NONSGML v1.0//EN
CALSCALE:GREGORIAN
METHOD:PUBLISH
X-ORIGINAL-URL:https://www.spinadello.it
X-WR-CALDESC:Eventi per Spinadello
REFRESH-INTERVAL;VALUE=DURATION:PT1H
X-Robots-Tag:noindex
X-PUBLISHED-TTL:PT1H
BEGIN:VTIMEZONE
TZID:Europe/Rome
BEGIN:DAYLIGHT
TZOFFSETFROM:+0100
TZOFFSETTO:+0200
TZNAME:CEST
DTSTART:20190331T010000
END:DAYLIGHT
BEGIN:STANDARD
TZOFFSETFROM:+0200
TZOFFSETTO:+0100
TZNAME:CET
DTSTART:20191027T010000
END:STANDARD
BEGIN:DAYLIGHT
TZOFFSETFROM:+0100
TZOFFSETTO:+0200
TZNAME:CEST
DTSTART:20200329T010000
END:DAYLIGHT
BEGIN:STANDARD
TZOFFSETFROM:+0200
TZOFFSETTO:+0100
TZNAME:CET
DTSTART:20201025T010000
END:STANDARD
BEGIN:DAYLIGHT
TZOFFSETFROM:+0100
TZOFFSETTO:+0200
TZNAME:CEST
DTSTART:20210328T010000
END:DAYLIGHT
BEGIN:STANDARD
TZOFFSETFROM:+0200
TZOFFSETTO:+0100
TZNAME:CET
DTSTART:20211031T010000
END:STANDARD
BEGIN:DAYLIGHT
TZOFFSETFROM:+0100
TZOFFSETTO:+0200
TZNAME:CEST
DTSTART:20220327T010000
END:DAYLIGHT
BEGIN:STANDARD
TZOFFSETFROM:+0200
TZOFFSETTO:+0100
TZNAME:CET
DTSTART:20221030T010000
END:STANDARD
BEGIN:DAYLIGHT
TZOFFSETFROM:+0100
TZOFFSETTO:+0200
TZNAME:CEST
DTSTART:20230326T010000
END:DAYLIGHT
BEGIN:STANDARD
TZOFFSETFROM:+0200
TZOFFSETTO:+0100
TZNAME:CET
DTSTART:20231029T010000
END:STANDARD
END:VTIMEZONE
BEGIN:VEVENT
DTSTART;TZID=Europe/Rome:20220914T210000
DTEND;TZID=Europe/Rome:20220914T220000
DTSTAMP:20260422T103703
CREATED:20220902T112411Z
LAST-MODIFIED:20220902T133151Z
UID:5876-1663189200-1663192800@www.spinadello.it
SUMMARY:A trebbo con Shakespeare
DESCRIPTION:Per i 20 anni di Unica Reti Spa\, proprietaria dell’ex Acquedotto Spinadello\, ti invitamo mercoledì 14 settembre allo spettacolo A trebbo con Shakespeare di Denis Campitelli. \nA trebbo con Shakespeare\n“Trebbo” deriva della parola dialettale “Trebb”\, che significa incontro\, ritrovo\, veglia con amici. In Romagna\, fino a qualche anno fa\, questi incontri avvenivano nelle stalle dove\, nelle lunghe e gelide notti d’inverno\, uomini\, donne e bambini si trovavano per raccontarsi storie attorno al lume di una lanterna. Sembra che le storie più raccontate\, divertenti e inquietanti allo stesso tempo\, fossero quelle in cui si parlava di spiriti. \nLa gente era convinta che di notte si potesse “vedere” e “sentire”… Ed ecco che ai giorni nostri\, nel ristrutturare una vecchia casa colonica\, proprio in un anfratto del muro di una stalla\, viene ritrovato un vecchio manoscritto. \nÈ Teatro.\nRacconta degli spiriti di Amleto\, Romeo e Giulietta e Otello.\nÈ Shakespeare.\nRiscritto da poveri. \nINFORMAZIONI\nDurante la serata sarà possibile gustare il vino e altri prodotti dell’azienda agricola biologica La Via del Colle. \nL’evento si terrà nello spazio verde antistante alla centrale di sollevamento\, si consiglia un abbigliamento comodo e adeguato alla stagione. In caso di maltempo segui gli aggiornamenti sulla pagina FB di Spinadello e su Instagram. \nEvento gratuito\, richiesta prenotazione entro il giorno 13 settembre. CLICCA QUI e riserva il tuo posto per lo spettacolo. \nCome arrivare\nPer raggiungere l’Acquedotto Spinadello (Via Ausa Nuova 741\, 47034 Forlimpopoli) ti consigliamo di parcheggiare presso il centro abitato di Selbagnone (Forlimpopoli) e di proseguire a piedi in direzione di Via Ausa Nuova\, in quanto nelle vicinanze della centrale di sollevamento i posti auto sono limitati. Per maggiori informazioni consulta la sezione come arrivare del sito. \nEvento gratuito realizzato con il patrocinio e il sostegno del Comune di Forlimpopoli e di Unica Reti Spa.
URL:https://www.spinadello.it/evento/a-trebbo-con-shakespeare/
LOCATION:Centrale di sollevamento dell’acquedotto Spinadello
CATEGORIES:spettacolo
ATTACH;FMTTYPE=image/jpeg:https://www.spinadello.it/wp-content/uploads/2022/09/denis-campitelli-IG-LOGHI.jpg
END:VEVENT
BEGIN:VEVENT
DTSTART;TZID=Europe/Rome:20220725T200000
DTEND;TZID=Europe/Rome:20220725T230000
DTSTAMP:20260422T103703
CREATED:20220714T142525Z
LAST-MODIFIED:20220725T153741Z
UID:5861-1658779200-1658790000@www.spinadello.it
SUMMARY:Pastasciutta antifascista 2022
DESCRIPTION:
URL:https://www.spinadello.it/evento/pastasciutta-antifascista-2022/
LOCATION:Centrale di sollevamento dell’acquedotto Spinadello
CATEGORIES:spettacolo
ATTACH;FMTTYPE=image/jpeg:https://www.spinadello.it/wp-content/uploads/2022/07/locandina-Pastasciutta-spinadello-700x984-1.jpg
END:VEVENT
BEGIN:VEVENT
DTSTART;TZID=Europe/Rome:20220617T210000
DTEND;TZID=Europe/Rome:20220617T230000
DTSTAMP:20260422T103703
CREATED:20220610T100634Z
LAST-MODIFIED:20220610T103126Z
UID:5789-1655499600-1655506800@www.spinadello.it
SUMMARY:Anteprima festival Didjin'Oz
DESCRIPTION:Venerdì 17 giugno vi aspettiamo per una delle anteprime del festival Didjin’Oz! Ospite della serata sarà Nicola Pagano\, con i suoi racconti di viaggio e storie degli aborigeni australiani. \nDurante la serata sarà possibile visitare anche l’allestimento CULTURE ENCOUNTER – Aborigenal art exposition: una sposizione di bark painting (pittura su corteccia) e didjeridoo tradizionali aborigeni. \nNicola Pagano \n“È stata mia madre a regalarmi il primo\, vero didjeridoo. Mi ha chiamato da Darwin (nel nord dell’Australia) e mi ha detto che la era pieno di questi strumenti. Me ne ha portati due: una svolta. Finita l’università è scattato il grande sogno: un lungo viaggio in Australia”. \nNicola Pagano è antropologo e musicista trentino con la passione per il mondo ed i suoi popoli. La passione per il didjeridoo non ha fatto altro che stimolare un suo interesse\, probabilmente latente\, per la cultura Aborigena che\, ovviamene\, da quel momento ha studiato in modo approfondito ma che doveva assolutamente conoscere da vicino. Nicola è partito con una sola idea in testa ”la ricerca dell’uomo” e con un desiderio\, quello di fare un’esperienza vera\, genuina\, a contatto con popoli straordinari. Ha impiegato più di quattro mesi ma\, grazie alla musica\, Nicola è stato accettato da una famiglia nomade del popolo degli Yolngu\, Aborigeni nella Arnhem Land. Ha trascorso altri otto mesi insieme a loro diventando in pratica un membro di quella famiglia. Nicola ha assunto un nuovo nome\, Dharpa\, una specie di serpente\, e imparato a vivere con i loro ritmi\, a capire il profondo legame con la natura\, a condividere il loro senso di spiritualità e ha suonato moltissimo il didjeridoo che ha imparato a conoscere anche oltre la sua valenza musicale\, in quanto\, nella cultura aborigena\, la musica\, la religione e anche le abilità pratiche – caccia\, pesca\, ecc. – fanno parte di un’unica filosofia di vita che è lontanissima da quella del mondo occidentale. \nSerata a ingresso libero. \nScopri anche l’evento in previsione per sabato mattina! IL SUONO DELL’ALBERO | Seduta sonora di Antiginnastica® in compagnia di Filippo Didgeridoo Fiorini. \nEvento realizzato con il patrocinio e il sostegno del Comune di Forlimpopoli e di Unica Reti Spa.
URL:https://www.spinadello.it/evento/anteprima-festival-didjinoz/
LOCATION:Centrale di sollevamento dell’acquedotto Spinadello
CATEGORIES:spettacolo
ATTACH;FMTTYPE=image/jpeg:https://www.spinadello.it/wp-content/uploads/2022/06/WhatsApp-Image-2022-06-08-at-14.01.12.jpeg
END:VEVENT
BEGIN:VEVENT
DTSTART;TZID=Europe/Rome:20210730T180000
DTEND;TZID=Europe/Rome:20210730T220000
DTSTAMP:20260422T103703
CREATED:20210704T161329Z
LAST-MODIFIED:20211127T182508Z
UID:4712-1627668000-1627682400@www.spinadello.it
SUMMARY:Terra e comunità
DESCRIPTION:Terra e comunità | Tierra y comunidad  \nParlare di disponibilità\, accessibilità e adeguatezza al cibo significa intercettare temi che ricadono nella sfera dei diritti umani. In un mondo in cui oltre la metà delle aziende agricole sono inferiori a due ettari\, in cui l’agricoltura familiare è presente sul 70-80% della terra coltivata e produce l’80% del cibo consumato a livello globale\, è sempre più urgente promuovere sistemi che assicurino cibo adeguato dal punto di vista culturale\, nutrizionale\, sociale ed ecologico per tutti.  \nNell’ambito della mostra GEORAMA\, che indaga il tema della terra attraverso una scenografia composta da nove progetti fotografici\, venerdì 30 luglio ti invitiamo a Terra e comunità: serata dedicata alla visione di documentari sui temi dell’agricoltura familiare\, dell’agroecologia e della sovranità alimentare. \nLa selezione dei filmati è a cura del MalatestaShort Film Festival (Cesena)\, in collaborazione con Fic Wallmapu – Festival internazionale di cinema indigeno (Cile). \nIN VISIONE\n\n56\, documentario 29 min (2016) di Marco Huertas\nBurkinabè Bounty\, documentario 36min (2018) di Iara Lee\nItrofill Mongen\, documentario 26 min (2018) di Diego Olivos Achurra\nLos dueños de la selva en peligro\, documentario 14 min (2019) di Flay Guajajara\n\n\n    \n        \n        \n        \n        \n                            \n                    \n    \n                    \n                \n                            \n                        \n                                    \n                                                    56\n                                            \n                                                    Documentario 29 min (2016) di Marco Huertas A Soavinarivo\, in Madagascar\, c’è una scuola che esclude. Il pagamento alla maestra è di 56 kg di riso/anno per ogni bambino\, il che rende quasi […]\n                            \n        \n    \n\n                \n                                \n                    \n    \n                    \n                \n                            \n                        \n                                    \n                                                    Burkinabè Bounty\n                                            \n                                                    Documentario 36min (2018) di Iara Lee Un documentario che racconta la resistenza agricola e la lotta per la sovranità alimentare in Burkina Faso. Con contadini\, studenti\, artisti e leader attivisti del movimento Slow […]\n                            \n        \n    \n\n                \n                                \n                    \n    \n                    \n                \n                            \n                        \n                                    \n                                                    Itrofill Mongen\n                                            \n                                                    Documentario 26 min (2018) di Diego Olivos Achurra A Tirúa\, comune di origine mapuche nel sud del Cile\, le tradizioni e le pratiche del territorio sono minacciate dall’industria forestale e dalla monocoltura di […]\n                            \n        \n    \n\n                \n                                \n                    \n    \n                    \n                \n                            \n                        \n                                    \n                                                    Los dueños de la selva en peligro\n                                            \n                                                    Documentario 14 min (2019) di Flay Guajajara Gli Awá Guajá sono uno degli ultimi popoli cacciatori e raccoglitori al mondo. Vivono su terre indigene invase da taglialegna\, occupanti non indigeni\, cacciatori illegali e […]\n                            \n        \n    \n\n                \n                        \n\n            \n\n \nPROGRAMMA DELLA SERATA\n18:00 | GEORAMA  apertura mostra fotografica \n19:00- 20:00 | Visite guidate alla mostra in compagnia degli autori\nOgni turno di visita ha una durata di circa 20 minuti\, prenota l’orario che preferisci! \n21:00 | Talk\nIntroduzione alla serata a cura di Andrea Fantini\, geografo e agronomo\, ricercatore in pianificazione territoriale ed ecologia politica. Partecipano anche Paolo Vignali\, presidente di LVIA (associazione di solidarietà e cooperazione internazionale) e Slow Food Condotta di Forlì -Alto Appennino Forlivese.\n \n21:30 | Inizio proiezioni open air\nTutti i filmati sono proiettati in lingua originale\, con sottotitoli in italiano. \nDrink&Food\nBevande a cura di Equamente – Bottega di Forlì. Porta il tuo picnic o prenota entro giovedì 29 luglio scrivendo al 328 9582919 il cestino preparato dall’ Agriturismo La Lenticchia.  > Consulta il menù! \nCOME ARRIVARE\n\n\n\nI posti auto presso l’acquedotto sono molto limitati. Ti invitiamo a raggiungerci in bicicletta o a lasciare l’auto presso il centro abitato di Selbagnone e proseguire a piedi (in monopattino o come vuoi tu!) in direzione di Spinadello. \n\nP1 presso piazza A. Aramini (1\,6 Km\, circa 20 minuti) – Guarda il percorso su Google Maps\nP2 presso Via Selbagnone (1\,3 Km\, circa 15 minuti) – Guarda il percorso su Google Maps\n\nTerrà e comunità è un vento gratuito realizzato con il patrocinio e il sostegno del Comune di Forlimpopoli\, Unica Reti Spa\, Fondazione Cassa dei Risparmi di Forlì.  \nRealizzato in collaborazione con:
URL:https://www.spinadello.it/evento/terra-e-comunita/
LOCATION:Centrale di sollevamento dell’acquedotto Spinadello
CATEGORIES:mostra,spettacolo
ATTACH;FMTTYPE=image/jpeg:https://www.spinadello.it/wp-content/uploads/2021/07/Evento-FB.jpg
END:VEVENT
BEGIN:VEVENT
DTSTART;TZID=Europe/Rome:20210725T200000
DTEND;TZID=Europe/Rome:20210725T230000
DTSTAMP:20260422T103703
CREATED:20210718T141837Z
LAST-MODIFIED:20211127T190050Z
UID:4825-1627243200-1627254000@www.spinadello.it
SUMMARY:La poesia della Costituzione
DESCRIPTION:
URL:https://www.spinadello.it/evento/la-poesia-della-costituzione/
LOCATION:Centrale di sollevamento dell’acquedotto Spinadello
CATEGORIES:mostra,spettacolo
ATTACH;FMTTYPE=image/jpeg:https://www.spinadello.it/wp-content/uploads/2021/07/locandina-finale2-1.jpg
END:VEVENT
BEGIN:VEVENT
DTSTART;TZID=Europe/Rome:20200822T203000
DTEND;TZID=Europe/Rome:20200823T000000
DTSTAMP:20260422T103703
CREATED:20200726T090818Z
LAST-MODIFIED:20211127T210628Z
UID:3838-1598128200-1598140800@www.spinadello.it
SUMMARY:MalatestaShort | Opening Festival 2020
DESCRIPTION:Il 22 agosto\, l’Acquedotto Spinadello sarà la suggestiva location dell’opening del MalatestaShort Film Festival 2020.\nIn una dimensione in cui acqua\, terra e aria si intrecciano in un’ambientazione unica\, potrai assistere alla proiezione di cortometraggi poco convenzionali sul tema “Uomo e Natura”\, che fanno parte della sezione EXTENDED CINEMA della quarta edizione del Festival. \nDalle 20:30 alle 24:00: \n🎥 SPAZIO IGLOO: proiezioni diffuse installate su tende da campeggio. \n\nThe diver\, di Michael Leonard\, Jamie Helmer\, 12’\, Australia\, 2019\nThe Forest\, di F. Scope\, 18’\, Greece\nIhr (Them)\, di Amélie Cochet e Louis Möhrle\, 6’10’’\, Switzerland\, 2019\nIntermission Expedition\, di Wiep Teeuwisse\, 8’21’’\, Netherlands\, 2019\nGuaxuma\, di Nara Normande\, 14’16’’\, Brazil\, 2018\nHuo Zhe (Living)\, di Kino Lee\, 3’06’’\, Taiwan\, 2020\nPadenti (Forest)\, di Marco Antonio Pani\, 23’39’’\, Italy\, 2020\nSilou: a tale of an orang Asli\, di Yazan Al – Assadi\, 13’25’’\, Syrian Arab Republic\, 2019\nTick\, di Fabienne Priess\, Levin Tamoj\, 5’25’’\, Germany\, 2019\nBautismo\, di Mauro Vecchi\, 18’\, Italy\, 2018\n\n🎥 SPAZIO WENDERS: The Stream I-VIII\, di Hiroya Sakurai\, totale episodi 57’\, Japan\, 2011-2019 \nINFO PER LA SERATA:\nIn caso di maltempo la serata sarà posticipata a domenica 30 agosto 2020. Segui tutti gli aggiornamenti sull’evento Fb MalatestaShort | Opening Festival 2020 \n> Scarica il programma completo del festival e scopri un’anteprima di tutti i cortometraggi in visione durante la serata!\n>> PRENOTAZIONI\nBiglietto “Extended Cinema”\nCosto: 6 euro.\nIl biglietto dà accesso a tutti i luoghi e le proiezioni della sezione EXTENDED CINEMA\, consulta il programma per scoprire tutte le sedi di questa sezione. \nPrenotazioni obbligatorie a partire da lunedì 17 agosto\, via mail all’indirizzo prenotazioni.msff@gmail.com o telefonando al numero 329 3110472 (Sara) \nTutti gli eventi sono con ingresso riservato ai soci Albedo e/o Arci. Per chi non fosse socio\, è possibile fare richiesta di adesione direttamente sul posto oppure sul portale online (opzione consigliata). \n>> COME ARRIVARE\nSabato 22 agosto i posti auto presso Spinadello (via Ausa Nuova 741 Forlimpopoli) saranno riservati a disabili\, per raggiungerci in bicicletta o scoprire dove lasciare l’auto e arrivare all’acquedotto con una breve camminata seguendo gli indicatori di direzione visita la pagina www.spinadello.it/contatti-come-arrivare. \n****\nPresso Spinadello sarà visibile inoltre la mostra “Idroscopio”: indagine fotografica sul tema dell’acqua\, promossa da Spazi Indecisi nell’ambito di In Loco 2020.\n+ Ore 18:00 Opening mostra in compagnia degli autori\, prenota la visita su https://visita-guidata-autori.eventbrite.it\n+ Ore 19:00 Apertura punto ristoro a cura dell’Agriturismo “La Lenticchia”\, porta un telo per consumare la tua cena in modalità picnic!\n+ Durante la serata\, selezione musicale “Negrobones” a cura di Andrea Comandini e Andrea Fantini in collaborazione con Magazzino Parallelo.\n+ Per tutta la serata sarà attivo un punto info In Loco- il museo diffuso dell’abbandono.\nPer maggiori informazioni visita www.spaziindecisi.it e www.inloco.eu \n**** \nIl festival è a cura dell’associazione Albedo e di Associazione ARCI Cesena\nDirezione artistica e organizzativa: Luca Berardi e Valerio Montemurro.\nCon il contributo di: Regione Emilia Romagna e Progetto Giovani Comune di Cesena.\nCon il sostegno e la collaborazione di: Comune di Cesena\, Biblioteca Malatestiana\, Assessorato alla Cultura e Green City. \nTutti gli eventi a Spinadello sono inoltre patrocinati e realizzati con il sostegno del Comune di Forlimpopoli.
URL:https://www.spinadello.it/evento/malatestashort-opening-festival-2020/
LOCATION:Centrale di sollevamento dell’acquedotto Spinadello
CATEGORIES:mostra,spettacolo
ATTACH;FMTTYPE=image/jpeg:https://www.spinadello.it/wp-content/uploads/2020/07/MalatestaShort-Spinadello-1.jpg
END:VEVENT
BEGIN:VEVENT
DTSTART;TZID=Europe/Rome:20200606T200000
DTEND;TZID=Europe/Rome:20200606T230000
DTSTAMP:20260422T103703
CREATED:20200604T190801Z
LAST-MODIFIED:20211127T193259Z
UID:3749-1591473600-1591484400@www.spinadello.it
SUMMARY:Picnic al tramonto\, visioni & lucciole!
DESCRIPTION:Hai mai visto le lucciole? A Spinadello si sa\, non mancano di certo! \nTi invitiamo sabato 6 giugno a raggiungerci al vecchio acquedotto per un ultimo evento in compagnia di questi insetti bioluminescenti! \nCOME FUNZIONA? \n\nI posti sono limitati! Clicca e registrati qui per aiutarci a monitorare gli ingressi\, è importante per la salute di tutti!\nPorta il tuo picnic e un telo su cui appoggiarti\, noi ti aiuteremo a rispettare le distanze di sicurezza e a trovare uno spazio nel prato!\nOrganizzati con gli amici per fare gruppetti poco numerosi.\nNon dimenticare lo spray anti-zanzare (meglio se naturale)\, una torcia o una pila frontale e un paio di scarponcini da trekking. Ricorda anche la mascherina e il gel disinfettante per le mani.\n\nLa serata non prevede una visita guidata\, ma saremo felici di raccontarti qualche informazione sulla fauna dei Meandri del Fiume Ronco e soprattutto quale sentiero fare per poter osservare le lucciole! \nDurante la serata ospiteremo inoltre i video di Buonanotte suonatori sui muri\, la festa virtuale di fine anno della Scuola di Musica Popolare di Forlimpopoli! \nCOME ARRIVARE? \nAppuntamento dalle ore 20:00 presso lo Spinadello (via Ausa Nuova\, 741 Forlimpopoli).\nIndicazioni per raggiungere l’ex acquedotto: https://goo.gl/maps/Tt4AQsT17J613VJs5 \nSerata realizzata con il patrocinio e il sostegno del Comune di Forlimpopoli. \n 
URL:https://www.spinadello.it/evento/picnic-al-tramonto-visioni-lucciole/
LOCATION:Centrale di sollevamento dello Spinadello
CATEGORIES:spettacolo,visite guidate
ATTACH;FMTTYPE=image/jpeg:https://www.spinadello.it/wp-content/uploads/2019/05/Figura-22.jpg
END:VEVENT
END:VCALENDAR